BEGIN:VCALENDAR
VERSION:2.0
PRODID:-//The Small Business Development Center (SBDC) hosted by Pacific Coast Regional - ECPv5.0.2.1//NONSGML v1.0//EN
CALSCALE:GREGORIAN
METHOD:PUBLISH
X-WR-CALNAME:The Small Business Development Center (SBDC) hosted by Pacific Coast Regional
X-ORIGINAL-URL:https://pcrsbdc.org
X-WR-CALDESC:Events for The Small Business Development Center (SBDC) hosted by Pacific Coast Regional
BEGIN:VTIMEZONE
TZID:America/Los_Angeles
BEGIN:DAYLIGHT
TZOFFSETFROM:-0800
TZOFFSETTO:-0700
TZNAME:PDT
DTSTART:20210314T100000
END:DAYLIGHT
BEGIN:STANDARD
TZOFFSETFROM:-0700
TZOFFSETTO:-0800
TZNAME:PST
DTSTART:20211107T090000
END:STANDARD
END:VTIMEZONE
BEGIN:VEVENT
DTSTART;TZID=America/Los_Angeles:20210825T100000
DTEND;TZID=America/Los_Angeles:20210825T120000
DTSTAMP:20260422T124126
CREATED:20210726T181938Z
LAST-MODIFIED:20210726T181938Z
UID:4672-1629885600-1629892800@pcrsbdc.org
SUMMARY:Disciplined Entrepreneurship: 24 Steps To A Successful Startup
DESCRIPTION:Disciplined Entrepreneurship will change the way you think about starting (or growing) a company. Many believe that entrepreneurship cannot be taught\, but great entrepreneurs aren’t born with something special – they simply make great products. Yes\, entrepreneurship can be taught\, provided that you are coachable. \n\nREGISTER NOW \n
URL:https://pcrsbdc.org/workshop/disciplined-entrepreneurship-24-steps-to-a-successful-startup-34/
LOCATION:Webinar – PCR\, United States
CATEGORIES:Business Planning,Launching a New Business
END:VEVENT
END:VCALENDAR